BEGIN:VCALENDAR
VERSION:2.0
PRODID:-//Dorpsraad Eefde - ECPv6.15.20//NONSGML v1.0//EN
CALSCALE:GREGORIAN
METHOD:PUBLISH
X-ORIGINAL-URL:https://dorpsraadeefde.nl
X-WR-CALDESC:Evenementen voor Dorpsraad Eefde
REFRESH-INTERVAL;VALUE=DURATION:PT1H
X-Robots-Tag:noindex
X-PUBLISHED-TTL:PT1H
BEGIN:VTIMEZONE
TZID:Europe/Amsterdam
BEGIN:DAYLIGHT
TZOFFSETFROM:+0100
TZOFFSETTO:+0200
TZNAME:CEST
DTSTART:20230326T010000
END:DAYLIGHT
BEGIN:STANDARD
TZOFFSETFROM:+0200
TZOFFSETTO:+0100
TZNAME:CET
DTSTART:20231029T010000
END:STANDARD
BEGIN:DAYLIGHT
TZOFFSETFROM:+0100
TZOFFSETTO:+0200
TZNAME:CEST
DTSTART:20240331T010000
END:DAYLIGHT
BEGIN:STANDARD
TZOFFSETFROM:+0200
TZOFFSETTO:+0100
TZNAME:CET
DTSTART:20241027T010000
END:STANDARD
BEGIN:DAYLIGHT
TZOFFSETFROM:+0100
TZOFFSETTO:+0200
TZNAME:CEST
DTSTART:20250330T010000
END:DAYLIGHT
BEGIN:STANDARD
TZOFFSETFROM:+0200
TZOFFSETTO:+0100
TZNAME:CET
DTSTART:20251026T010000
END:STANDARD
BEGIN:DAYLIGHT
TZOFFSETFROM:+0100
TZOFFSETTO:+0200
TZNAME:CEST
DTSTART:20260329T010000
END:DAYLIGHT
BEGIN:STANDARD
TZOFFSETFROM:+0200
TZOFFSETTO:+0100
TZNAME:CET
DTSTART:20261025T010000
END:STANDARD
END:VTIMEZONE
BEGIN:VEVENT
DTSTART;TZID=Europe/Amsterdam:20250317T193000
DTEND;TZID=Europe/Amsterdam:20250317T193000
DTSTAMP:20260425T193531
CREATED:20250305T204559Z
LAST-MODIFIED:20250314T091746Z
UID:2312-1742239800-1742239800@dorpsraadeefde.nl
SUMMARY:Ondernemersavond Eefde
DESCRIPTION:Ben jij een van de vele ondernemers in Eefde? Dan is deze avond voor jou! De Dorpsraad Eefde nodigt je uit om samen te kijken hoe we ondernemen in ons dorp kunnen versterken. \nWat mag je verwachten deze avond?\nNetwerken met andere ondernemers uit Eefde en bestuursleden van de dorpsraad. \nMeepraten over samenwerking en nieuwe initiatieven. \nWerkplekken en netwerkbijeenkomsten – hoe geven we dit samen vorm? \nToelichting op het dorpsplan en de mogelijke rol van ondernemers daarin. \nNieuw leven blazen in de ondernemersvereniging\nDe ondernemersvereniging in Eefde is vorig jaar gestopt. De Dorpsraad wil helpen om de gewenste samenwerking tussen ondernemers een nieuwe impuls te geven. Deze avond is ook hiervoor het startpunt! \nKom naar deze avond\nKom ook naar het poortgebouw van de Detmerskazerne. Aanmelden is niet nodig\, maar we vinden het wel fijn om van te voren te weten hoeveel ondernemers we ongeveer kunnen verwachten. Wil je daarvoor dit formulier invullen? Je kunt vanaf 19.30 uur binnenlopen\, we starten om 20.00 uur. \nKen je andere ondernemers in Eefde die mogelijk geen uitnodiging hebben ontvangen? Nodig ze uit\, want samen maken we ondernemen in Eefde sterker. \nWe zien je graag op 17 maart!
URL:https://dorpsraadeefde.nl/event/ondernemersavond-eefde/
LOCATION:Poortegebouw Kazerne\, Kazerneplein 16\, Eefde\, 7211 BM
CATEGORIES:Ondernemers
ATTACH;FMTTYPE=image/png:https://dorpsraadeefde.nl/wp-content/uploads/Ondernemersavond-eefde.png
END:VEVENT
BEGIN:VEVENT
DTSTART;TZID=Europe/Amsterdam:20241111T100000
DTEND;TZID=Europe/Amsterdam:20241111T120000
DTSTAMP:20260425T193531
CREATED:20241106T082929Z
LAST-MODIFIED:20241106T083308Z
UID:1357-1731319200-1731326400@dorpsraadeefde.nl
SUMMARY:Open Koffie GIVO Werkcafé
DESCRIPTION:Kom netwerken met ondernemers uit de regio\nOp maandag 11 november 2024 organiseert het GIVO Werkcafé de eerste Open Koffie\, speciaal voor ondernemers. \nDit evenement is een mooie kans om andere lokale ondernemers te ontmoeten\, kennis uit te wisselen en inspiratie op te doen voor de start van je werkweek. \nWees welkom om te netwerken in het GIVO Werkcafé\, Groenmarkt 26 in Zutphen. \nWil je erbij zijn? Meld je dan aan via boeking.givo.nl. \nSamen bereiken we meer! De huismeester van het GIVO Werkcafé hoopt je te ontvangen.
URL:https://dorpsraadeefde.nl/event/open-koffie-givo-werkcafe/
LOCATION:GIVO Werkcafé\, Groenmarkt 26\, Zutphen\, 7201 HZ
CATEGORIES:Ondernemers
ATTACH;FMTTYPE=image/webp:https://dorpsraadeefde.nl/wp-content/uploads/Your-paragraph-text.webp
END:VEVENT
END:VCALENDAR